BEGIN:VCALENDAR
VERSION:2.0
PRODID:-//eventon.com NONSGML v1.0//EN
CALSCALE:GREGORIAN
METHOD:PUBLISH
BEGIN:VEVENT
UID:69e320bd3c65d
DTSTAMP:20260418T061213Z
DTSTART:20250922T140000Z
DTEND:20250922T223000Z
LOCATION:
SUMMARY:Portland Class Start - Weekday CDL Training
DESCRIPTION:Start CDL Training at Elite Truck School in Portland\,  OR Begi
 nning CDL training is more than just showing up to class\,  it’s the star
 t of a hands-on experience that transforms you from a beginner into a confi
 dent\,  professional driver. At our Portland campus\,  you’ll train in th
 e heart of one[..]\nhttps://elitetruckschool.com/events/portland-weekday-cd
 l-training-class-start/
URL:https://elitetruckschool.com/events/portland-weekday-cdl-training-class-start/
END:VEVENT
END:VCALENDAR